BEGIN:VCALENDAR
VERSION:2.0
PRODID:-//The Argyle - ECPv6.15.20//NONSGML v1.0//EN
CALSCALE:GREGORIAN
METHOD:PUBLISH
X-WR-CALNAME:The Argyle
X-ORIGINAL-URL:https://theargyle.org
X-WR-CALDESC:Events for The Argyle
REFRESH-INTERVAL;VALUE=DURATION:PT1H
X-Robots-Tag:noindex
X-PUBLISHED-TTL:PT1H
BEGIN:VTIMEZONE
TZID:UTC
BEGIN:STANDARD
TZOFFSETFROM:+0000
TZOFFSETTO:+0000
TZNAME:UTC
DTSTART:20210101T000000
END:STANDARD
END:VTIMEZONE
BEGIN:VEVENT
DTSTART;TZID=UTC:20220717T100000
DTEND;TZID=UTC:20220717T110000
DTSTAMP:20260424T044635
CREATED:20220706T194851Z
LAST-MODIFIED:20220706T194851Z
UID:1809-1658052000-1658055600@theargyle.org
SUMMARY:Coffee Social
DESCRIPTION:
URL:https://theargyle.org/event/coffee-social-2/
LOCATION:The Argyle\, 4115 W 38th Ave\, Denver\, CO\, 80212
END:VEVENT
BEGIN:VEVENT
DTSTART;TZID=UTC:20220717T130000
DTEND;TZID=UTC:20220717T140000
DTSTAMP:20260424T044635
CREATED:20220706T194938Z
LAST-MODIFIED:20220706T194938Z
UID:1811-1658062800-1658066400@theargyle.org
SUMMARY:TV Series
DESCRIPTION:Dangerous Animals Asia
URL:https://theargyle.org/event/tv-series-2/
LOCATION:The Argyle\, 4115 W 38th Ave\, Denver\, CO\, 80212
END:VEVENT
BEGIN:VEVENT
DTSTART;TZID=UTC:20220717T143000
DTEND;TZID=UTC:20220717T153000
DTSTAMP:20260424T044635
CREATED:20220706T195039Z
LAST-MODIFIED:20220706T195039Z
UID:1813-1658068200-1658071800@theargyle.org
SUMMARY:Ice Cream Social
DESCRIPTION:National Peach Ice Cream Day
URL:https://theargyle.org/event/ice-cream-social-2/
LOCATION:The Argyle\, 4115 W 38th Ave\, Denver\, CO\, 80212
END:VEVENT
END:VCALENDAR