BEGIN:VCALENDAR
VERSION:2.0
PRODID:-//The Argyle - ECPv6.15.20//NONSGML v1.0//EN
CALSCALE:GREGORIAN
METHOD:PUBLISH
X-ORIGINAL-URL:https://theargyle.org
X-WR-CALDESC:Events for The Argyle
REFRESH-INTERVAL;VALUE=DURATION:PT1H
X-Robots-Tag:noindex
X-PUBLISHED-TTL:PT1H
BEGIN:VTIMEZONE
TZID:UTC
BEGIN:STANDARD
TZOFFSETFROM:+0000
TZOFFSETTO:+0000
TZNAME:UTC
DTSTART:20210101T000000
END:STANDARD
END:VTIMEZONE
BEGIN:VEVENT
DTSTART;TZID=UTC:20220723T100000
DTEND;TZID=UTC:20220723T110000
DTSTAMP:20260423T212746
CREATED:20220706T200055Z
LAST-MODIFIED:20220706T200055Z
UID:1844-1658570400-1658574000@theargyle.org
SUMMARY:Outing
DESCRIPTION:
URL:https://theargyle.org/event/outing-6/
LOCATION:The Argyle\, 4115 W 38th Ave\, Denver\, CO\, 80212
END:VEVENT
BEGIN:VEVENT
DTSTART;TZID=UTC:20220723T143000
DTEND;TZID=UTC:20220723T153000
DTSTAMP:20260423T212746
CREATED:20220706T200126Z
LAST-MODIFIED:20220706T200126Z
UID:1846-1658586600-1658590200@theargyle.org
SUMMARY:Happy Hour
DESCRIPTION:
URL:https://theargyle.org/event/happy-hour-7/
LOCATION:The Argyle\, 4115 W 38th Ave\, Denver\, CO\, 80212
END:VEVENT
BEGIN:VEVENT
DTSTART;TZID=UTC:20220723T143000
DTEND;TZID=UTC:20220723T153000
DTSTAMP:20260423T212746
CREATED:20220706T200206Z
LAST-MODIFIED:20220706T200206Z
UID:1848-1658586600-1658590200@theargyle.org
SUMMARY:Ice Cream Social
DESCRIPTION:National Vanilla Ice Cream Day
URL:https://theargyle.org/event/ice-cream-social-3/
LOCATION:The Argyle\, 4115 W 38th Ave\, Denver\, CO\, 80212
END:VEVENT
END:VCALENDAR