BEGIN:VCALENDAR
VERSION:2.0
PRODID:-//The Argyle - ECPv6.15.20//NONSGML v1.0//EN
CALSCALE:GREGORIAN
METHOD:PUBLISH
X-WR-CALNAME:The Argyle
X-ORIGINAL-URL:https://theargyle.org
X-WR-CALDESC:Events for The Argyle
REFRESH-INTERVAL;VALUE=DURATION:PT1H
X-Robots-Tag:noindex
X-PUBLISHED-TTL:PT1H
BEGIN:VTIMEZONE
TZID:UTC
BEGIN:STANDARD
TZOFFSETFROM:+0000
TZOFFSETTO:+0000
TZNAME:UTC
DTSTART:20210101T000000
END:STANDARD
END:VTIMEZONE
BEGIN:VEVENT
DTSTART;TZID=UTC:20220730T100000
DTEND;TZID=UTC:20220730T110000
DTSTAMP:20260425T120431
CREATED:20220706T201328Z
LAST-MODIFIED:20220706T201328Z
UID:1886-1659175200-1659178800@theargyle.org
SUMMARY:Nail Spa
DESCRIPTION:
URL:https://theargyle.org/event/nail-spa-4/
LOCATION:The Argyle\, 4115 W 38th Ave\, Denver\, CO\, 80212
END:VEVENT
BEGIN:VEVENT
DTSTART;TZID=UTC:20220730T143000
DTEND;TZID=UTC:20220730T153000
DTSTAMP:20260425T120431
CREATED:20220706T201357Z
LAST-MODIFIED:20220706T201357Z
UID:1888-1659191400-1659195000@theargyle.org
SUMMARY:Snack & Chat
DESCRIPTION:
URL:https://theargyle.org/event/snack-chat-4/
LOCATION:The Argyle\, 4115 W 38th Ave\, Denver\, CO\, 80212
END:VEVENT
END:VCALENDAR