BEGIN:VCALENDAR
VERSION:2.0
PRODID:-//The Argyle - ECPv6.15.20//NONSGML v1.0//EN
CALSCALE:GREGORIAN
METHOD:PUBLISH
X-ORIGINAL-URL:https://theargyle.org
X-WR-CALDESC:Events for The Argyle
REFRESH-INTERVAL;VALUE=DURATION:PT1H
X-Robots-Tag:noindex
X-PUBLISHED-TTL:PT1H
BEGIN:VTIMEZONE
TZID:UTC
BEGIN:STANDARD
TZOFFSETFROM:+0000
TZOFFSETTO:+0000
TZNAME:UTC
DTSTART:20210101T000000
END:STANDARD
END:VTIMEZONE
BEGIN:VEVENT
DTSTART;TZID=UTC:20221129T093000
DTEND;TZID=UTC:20221129T103000
DTSTAMP:20260423T063428
CREATED:20221103T211648Z
LAST-MODIFIED:20221103T211648Z
UID:2096-1669714200-1669717800@theargyle.org
SUMMARY:Writing Club
DESCRIPTION:
URL:https://theargyle.org/event/writing-club-3/
LOCATION:The Argyle\, 4115 W 38th Ave\, Denver\, CO\, 80212
END:VEVENT
BEGIN:VEVENT
DTSTART;TZID=UTC:20221129T130000
DTEND;TZID=UTC:20221129T140000
DTSTAMP:20260423T063428
CREATED:20221103T211717Z
LAST-MODIFIED:20221103T211717Z
UID:2098-1669726800-1669730400@theargyle.org
SUMMARY:Arts & Crafts
DESCRIPTION:
URL:https://theargyle.org/event/arts-crafts-9/
LOCATION:The Argyle\, 4115 W 38th Ave\, Denver\, CO\, 80212
END:VEVENT
BEGIN:VEVENT
DTSTART;TZID=UTC:20221129T143000
DTEND;TZID=UTC:20221129T153000
DTSTAMP:20260423T063428
CREATED:20221103T211758Z
LAST-MODIFIED:20221103T211758Z
UID:2100-1669732200-1669735800@theargyle.org
SUMMARY:Oculus
DESCRIPTION:
URL:https://theargyle.org/event/oculus-2/
LOCATION:The Argyle\, 4115 W 38th Ave\, Denver\, CO\, 80212
END:VEVENT
END:VCALENDAR