BEGIN:VCALENDAR
VERSION:2.0
PRODID:-//The Argyle - ECPv6.15.20//NONSGML v1.0//EN
CALSCALE:GREGORIAN
METHOD:PUBLISH
X-WR-CALNAME:The Argyle
X-ORIGINAL-URL:https://theargyle.org
X-WR-CALDESC:Events for The Argyle
REFRESH-INTERVAL;VALUE=DURATION:PT1H
X-Robots-Tag:noindex
X-PUBLISHED-TTL:PT1H
BEGIN:VTIMEZONE
TZID:UTC
BEGIN:STANDARD
TZOFFSETFROM:+0000
TZOFFSETTO:+0000
TZNAME:UTC
DTSTART:20210101T000000
END:STANDARD
END:VTIMEZONE
BEGIN:VEVENT
DTSTART;TZID=UTC:20221130T100000
DTEND;TZID=UTC:20221130T110000
DTSTAMP:20260423T063412
CREATED:20221103T211832Z
LAST-MODIFIED:20221103T211832Z
UID:2102-1669802400-1669806000@theargyle.org
SUMMARY:Holy Family
DESCRIPTION:
URL:https://theargyle.org/event/holy-family-5/
LOCATION:The Argyle\, 4115 W 38th Ave\, Denver\, CO\, 80212
END:VEVENT
BEGIN:VEVENT
DTSTART;TZID=UTC:20221130T130000
DTEND;TZID=UTC:20221130T140000
DTSTAMP:20260423T063412
CREATED:20221103T211918Z
LAST-MODIFIED:20221103T211918Z
UID:2104-1669813200-1669816800@theargyle.org
SUMMARY:Happy Hour
DESCRIPTION:November Birthday Celebration
URL:https://theargyle.org/event/happy-hour-19/
LOCATION:The Argyle\, 4115 W 38th Ave\, Denver\, CO\, 80212
END:VEVENT
BEGIN:VEVENT
DTSTART;TZID=UTC:20221130T140000
DTEND;TZID=UTC:20221130T150000
DTSTAMP:20260423T063412
CREATED:20221103T211939Z
LAST-MODIFIED:20221103T211939Z
UID:2106-1669816800-1669820400@theargyle.org
SUMMARY:Pastor Jerry
DESCRIPTION:
URL:https://theargyle.org/event/pastor-jerry-5/
LOCATION:The Argyle\, 4115 W 38th Ave\, Denver\, CO\, 80212
END:VEVENT
END:VCALENDAR