BEGIN:VCALENDAR
VERSION:2.0
PRODID:-//The Argyle - ECPv6.15.20//NONSGML v1.0//EN
CALSCALE:GREGORIAN
METHOD:PUBLISH
X-WR-CALNAME:The Argyle
X-ORIGINAL-URL:https://theargyle.org
X-WR-CALDESC:Events for The Argyle
REFRESH-INTERVAL;VALUE=DURATION:PT1H
X-Robots-Tag:noindex
X-PUBLISHED-TTL:PT1H
BEGIN:VTIMEZONE
TZID:UTC
BEGIN:STANDARD
TZOFFSETFROM:+0000
TZOFFSETTO:+0000
TZNAME:UTC
DTSTART:20210101T000000
END:STANDARD
END:VTIMEZONE
BEGIN:VEVENT
DTSTART;TZID=UTC:20221209T093000
DTEND;TZID=UTC:20221209T103000
DTSTAMP:20260423T052302
CREATED:20221209T033243Z
LAST-MODIFIED:20221209T033733Z
UID:2116-1670578200-1670581800@theargyle.org
SUMMARY:Documentary
DESCRIPTION:Resident’s Choice
URL:https://theargyle.org/event/documentary-5/
END:VEVENT
BEGIN:VEVENT
DTSTART;TZID=UTC:20221209T130000
DTEND;TZID=UTC:20221209T140000
DTSTAMP:20260423T052302
CREATED:20221209T033318Z
LAST-MODIFIED:20221209T033318Z
UID:2118-1670590800-1670594400@theargyle.org
SUMMARY:Snack & Chat
DESCRIPTION:National Pastry Day
URL:https://theargyle.org/event/snack-chat-9/
END:VEVENT
BEGIN:VEVENT
DTSTART;TZID=UTC:20221209T143000
DTEND;TZID=UTC:20221209T153000
DTSTAMP:20260423T052302
CREATED:20221209T033841Z
LAST-MODIFIED:20221209T033841Z
UID:2123-1670596200-1670599800@theargyle.org
SUMMARY:Book Club
DESCRIPTION:
URL:https://theargyle.org/event/book-club-10/
END:VEVENT
END:VCALENDAR