BEGIN:VCALENDAR
VERSION:2.0
PRODID:-//The Argyle - ECPv6.15.20//NONSGML v1.0//EN
CALSCALE:GREGORIAN
METHOD:PUBLISH
X-WR-CALNAME:The Argyle
X-ORIGINAL-URL:https://theargyle.org
X-WR-CALDESC:Events for The Argyle
REFRESH-INTERVAL;VALUE=DURATION:PT1H
X-Robots-Tag:noindex
X-PUBLISHED-TTL:PT1H
BEGIN:VTIMEZONE
TZID:UTC
BEGIN:STANDARD
TZOFFSETFROM:+0000
TZOFFSETTO:+0000
TZNAME:UTC
DTSTART:20210101T000000
END:STANDARD
END:VTIMEZONE
BEGIN:VEVENT
DTSTART;TZID=UTC:20221210T100000
DTEND;TZID=UTC:20221210T110000
DTSTAMP:20260423T070319
CREATED:20221209T033423Z
LAST-MODIFIED:20221209T033423Z
UID:2120-1670666400-1670670000@theargyle.org
SUMMARY:Nail Spa
DESCRIPTION:
URL:https://theargyle.org/event/nail-spa-9/
END:VEVENT
BEGIN:VEVENT
DTSTART;TZID=UTC:20221210T130000
DTEND;TZID=UTC:20221210T140000
DTSTAMP:20260423T070319
CREATED:20221209T033955Z
LAST-MODIFIED:20221209T033955Z
UID:2125-1670677200-1670680800@theargyle.org
SUMMARY:Happy Hour
DESCRIPTION:
URL:https://theargyle.org/event/happy-hour-21/
END:VEVENT
BEGIN:VEVENT
DTSTART;TZID=UTC:20221210T140000
DTEND;TZID=UTC:20221210T150000
DTSTAMP:20260423T070319
CREATED:20221209T034055Z
LAST-MODIFIED:20221209T034055Z
UID:2127-1670680800-1670684400@theargyle.org
SUMMARY:Snack and Bingo
DESCRIPTION:
URL:https://theargyle.org/event/snack-and-bingo/
END:VEVENT
END:VCALENDAR