BEGIN:VCALENDAR
VERSION:2.0
PRODID:-//The Argyle - ECPv6.15.20//NONSGML v1.0//EN
CALSCALE:GREGORIAN
METHOD:PUBLISH
X-WR-CALNAME:The Argyle
X-ORIGINAL-URL:https://theargyle.org
X-WR-CALDESC:Events for The Argyle
REFRESH-INTERVAL;VALUE=DURATION:PT1H
X-Robots-Tag:noindex
X-PUBLISHED-TTL:PT1H
BEGIN:VTIMEZONE
TZID:UTC
BEGIN:STANDARD
TZOFFSETFROM:+0000
TZOFFSETTO:+0000
TZNAME:UTC
DTSTART:20210101T000000
END:STANDARD
END:VTIMEZONE
BEGIN:VEVENT
DTSTART;TZID=UTC:20221215T130000
DTEND;TZID=UTC:20221215T140000
DTSTAMP:20260423T111217
CREATED:20221209T035708Z
LAST-MODIFIED:20221209T035708Z
UID:2154-1671109200-1671112800@theargyle.org
SUMMARY:Meditation Class
DESCRIPTION:
URL:https://theargyle.org/event/meditation-class-2/
END:VEVENT
BEGIN:VEVENT
DTSTART;TZID=UTC:20221215T140000
DTEND;TZID=UTC:20221215T150000
DTSTAMP:20260423T111217
CREATED:20221209T035751Z
LAST-MODIFIED:20221209T035804Z
UID:2156-1671112800-1671116400@theargyle.org
SUMMARY:Happy Hour
DESCRIPTION:December Birthday Celebration
URL:https://theargyle.org/event/happy-hour-22/
END:VEVENT
BEGIN:VEVENT
DTSTART;TZID=UTC:20221215T180000
DTEND;TZID=UTC:20221215T190000
DTSTAMP:20260423T111217
CREATED:20221209T035922Z
LAST-MODIFIED:20221209T035922Z
UID:2158-1671127200-1671130800@theargyle.org
SUMMARY:Outing
DESCRIPTION:Festive Lighting
URL:https://theargyle.org/event/outing-15/
END:VEVENT
END:VCALENDAR