BEGIN:VCALENDAR
VERSION:2.0
PRODID:-//The Argyle - ECPv6.15.20//NONSGML v1.0//EN
CALSCALE:GREGORIAN
METHOD:PUBLISH
X-WR-CALNAME:The Argyle
X-ORIGINAL-URL:https://theargyle.org
X-WR-CALDESC:Events for The Argyle
REFRESH-INTERVAL;VALUE=DURATION:PT1H
X-Robots-Tag:noindex
X-PUBLISHED-TTL:PT1H
BEGIN:VTIMEZONE
TZID:UTC
BEGIN:STANDARD
TZOFFSETFROM:+0000
TZOFFSETTO:+0000
TZNAME:UTC
DTSTART:20210101T000000
END:STANDARD
END:VTIMEZONE
BEGIN:VEVENT
DTSTART;TZID=UTC:20221219T093000
DTEND;TZID=UTC:20221219T223000
DTSTAMP:20260423T070233
CREATED:20221209T040738Z
LAST-MODIFIED:20221209T040738Z
UID:2178-1671442200-1671489000@theargyle.org
SUMMARY:Snack & Bingo
DESCRIPTION:
URL:https://theargyle.org/event/snack-bingo-10/
END:VEVENT
BEGIN:VEVENT
DTSTART;TZID=UTC:20221219T130000
DTEND;TZID=UTC:20221219T140000
DTSTAMP:20260423T070233
CREATED:20221209T040816Z
LAST-MODIFIED:20221209T040816Z
UID:2180-1671454800-1671458400@theargyle.org
SUMMARY:Happy Hour
DESCRIPTION:Christmas Themed and Live Entertainment
URL:https://theargyle.org/event/happy-hour-24/
END:VEVENT
BEGIN:VEVENT
DTSTART;TZID=UTC:20221219T143000
DTEND;TZID=UTC:20221219T153000
DTSTAMP:20260423T070233
CREATED:20221209T040850Z
LAST-MODIFIED:20221209T040850Z
UID:2182-1671460200-1671463800@theargyle.org
SUMMARY:Group Exercise
DESCRIPTION:
URL:https://theargyle.org/event/group-exercise/
END:VEVENT
END:VCALENDAR