BEGIN:VCALENDAR
VERSION:2.0
PRODID:-//The Argyle - ECPv6.15.20//NONSGML v1.0//EN
CALSCALE:GREGORIAN
METHOD:PUBLISH
X-WR-CALNAME:The Argyle
X-ORIGINAL-URL:https://theargyle.org
X-WR-CALDESC:Events for The Argyle
REFRESH-INTERVAL;VALUE=DURATION:PT1H
X-Robots-Tag:noindex
X-PUBLISHED-TTL:PT1H
BEGIN:VTIMEZONE
TZID:UTC
BEGIN:STANDARD
TZOFFSETFROM:+0000
TZOFFSETTO:+0000
TZNAME:UTC
DTSTART:20210101T000000
END:STANDARD
END:VTIMEZONE
BEGIN:VEVENT
DTSTART;TZID=UTC:20221221T100000
DTEND;TZID=UTC:20221221T110000
DTSTAMP:20260423T092808
CREATED:20221209T041412Z
LAST-MODIFIED:20221209T041412Z
UID:2191-1671616800-1671620400@theargyle.org
SUMMARY:Holy Family
DESCRIPTION:
URL:https://theargyle.org/event/holy-family-7/
END:VEVENT
BEGIN:VEVENT
DTSTART;TZID=UTC:20221221T130000
DTEND;TZID=UTC:20221221T140000
DTSTAMP:20260423T092808
CREATED:20221209T041436Z
LAST-MODIFIED:20221209T041436Z
UID:2193-1671627600-1671631200@theargyle.org
SUMMARY:Outing
DESCRIPTION:
URL:https://theargyle.org/event/outing-17/
END:VEVENT
BEGIN:VEVENT
DTSTART;TZID=UTC:20221221T140000
DTEND;TZID=UTC:20221221T150000
DTSTAMP:20260423T092808
CREATED:20221209T041459Z
LAST-MODIFIED:20221209T041505Z
UID:2195-1671631200-1671634800@theargyle.org
SUMMARY:Pastor Jerry
DESCRIPTION:
URL:https://theargyle.org/event/pastor-jerry-6/
END:VEVENT
END:VCALENDAR