BEGIN:VCALENDAR
VERSION:2.0
PRODID:-//The Argyle - ECPv6.15.20//NONSGML v1.0//EN
CALSCALE:GREGORIAN
METHOD:PUBLISH
X-ORIGINAL-URL:https://theargyle.org
X-WR-CALDESC:Events for The Argyle
REFRESH-INTERVAL;VALUE=DURATION:PT1H
X-Robots-Tag:noindex
X-PUBLISHED-TTL:PT1H
BEGIN:VTIMEZONE
TZID:UTC
BEGIN:STANDARD
TZOFFSETFROM:+0000
TZOFFSETTO:+0000
TZNAME:UTC
DTSTART:20210101T000000
END:STANDARD
END:VTIMEZONE
BEGIN:VEVENT
DTSTART;TZID=UTC:20221222T093000
DTEND;TZID=UTC:20221222T103000
DTSTAMP:20260423T093122
CREATED:20221209T042155Z
LAST-MODIFIED:20221209T042155Z
UID:2201-1671701400-1671705000@theargyle.org
SUMMARY:Hot Cocoa Social
DESCRIPTION:
URL:https://theargyle.org/event/hot-cocoa-social-4/
END:VEVENT
BEGIN:VEVENT
DTSTART;TZID=UTC:20221222T093000
DTEND;TZID=UTC:20221222T223000
DTSTAMP:20260423T093122
CREATED:20221209T041829Z
LAST-MODIFIED:20221209T041829Z
UID:2197-1671701400-1671748200@theargyle.org
SUMMARY:Hot Cocoa Social
DESCRIPTION:
URL:https://theargyle.org/event/hot-cocoa-social-3/
END:VEVENT
BEGIN:VEVENT
DTSTART;TZID=UTC:20221222T130000
DTEND;TZID=UTC:20221222T140000
DTSTAMP:20260423T093122
CREATED:20221209T041901Z
LAST-MODIFIED:20221209T041947Z
UID:2199-1671714000-1671717600@theargyle.org
SUMMARY:Happy Hour
DESCRIPTION:Karaoke
URL:https://theargyle.org/event/happy-hour-25/
END:VEVENT
END:VCALENDAR