BEGIN:VCALENDAR
VERSION:2.0
PRODID:-//The Argyle - ECPv6.15.20//NONSGML v1.0//EN
CALSCALE:GREGORIAN
METHOD:PUBLISH
X-ORIGINAL-URL:https://theargyle.org
X-WR-CALDESC:Events for The Argyle
REFRESH-INTERVAL;VALUE=DURATION:PT1H
X-Robots-Tag:noindex
X-PUBLISHED-TTL:PT1H
BEGIN:VTIMEZONE
TZID:UTC
BEGIN:STANDARD
TZOFFSETFROM:+0000
TZOFFSETTO:+0000
TZNAME:UTC
DTSTART:20210101T000000
END:STANDARD
END:VTIMEZONE
BEGIN:VEVENT
DTSTART;TZID=UTC:20221223T093000
DTEND;TZID=UTC:20221223T103000
DTSTAMP:20260423T065427
CREATED:20221209T042328Z
LAST-MODIFIED:20221209T042328Z
UID:2203-1671787800-1671791400@theargyle.org
SUMMARY:Documentary
DESCRIPTION:Residents Choice
URL:https://theargyle.org/event/documentary-6/
END:VEVENT
BEGIN:VEVENT
DTSTART;TZID=UTC:20221223T130000
DTEND;TZID=UTC:20221223T140000
DTSTAMP:20260423T065427
CREATED:20221209T042405Z
LAST-MODIFIED:20221209T042405Z
UID:2205-1671800400-1671804000@theargyle.org
SUMMARY:Music Therapy
DESCRIPTION:
URL:https://theargyle.org/event/music-therapy-2/
END:VEVENT
BEGIN:VEVENT
DTSTART;TZID=UTC:20221223T143000
DTEND;TZID=UTC:20221223T153000
DTSTAMP:20260423T065427
CREATED:20221209T042428Z
LAST-MODIFIED:20221209T042428Z
UID:2207-1671805800-1671809400@theargyle.org
SUMMARY:Book Club
DESCRIPTION:
URL:https://theargyle.org/event/book-club-12/
END:VEVENT
END:VCALENDAR