BEGIN:VCALENDAR
VERSION:2.0
PRODID:-//The Argyle - ECPv6.15.20//NONSGML v1.0//EN
CALSCALE:GREGORIAN
METHOD:PUBLISH
X-ORIGINAL-URL:https://theargyle.org
X-WR-CALDESC:Events for The Argyle
REFRESH-INTERVAL;VALUE=DURATION:PT1H
X-Robots-Tag:noindex
X-PUBLISHED-TTL:PT1H
BEGIN:VTIMEZONE
TZID:UTC
BEGIN:STANDARD
TZOFFSETFROM:+0000
TZOFFSETTO:+0000
TZNAME:UTC
DTSTART:20220101T000000
END:STANDARD
END:VTIMEZONE
BEGIN:VEVENT
DTSTART;TZID=UTC:20230609T093000
DTEND;TZID=UTC:20230609T093000
DTSTAMP:20260422T141309
CREATED:20230607T230024Z
LAST-MODIFIED:20230607T230024Z
UID:2290-1686303000-1686303000@theargyle.org
SUMMARY:Beading
DESCRIPTION:
URL:https://theargyle.org/event/beading-5/
LOCATION:The Argyle\, 4115 W 38th Ave\, Denver\, CO\, 80212
END:VEVENT
BEGIN:VEVENT
DTSTART;TZID=UTC:20230609T133000
DTEND;TZID=UTC:20230609T133000
DTSTAMP:20260422T141309
CREATED:20230607T230045Z
LAST-MODIFIED:20230607T230045Z
UID:2292-1686317400-1686317400@theargyle.org
SUMMARY:Free Paint
DESCRIPTION:
URL:https://theargyle.org/event/free-paint-4/
END:VEVENT
BEGIN:VEVENT
DTSTART;TZID=UTC:20230609T150000
DTEND;TZID=UTC:20230609T150000
DTSTAMP:20260422T141309
CREATED:20230607T230105Z
LAST-MODIFIED:20230607T230105Z
UID:2294-1686322800-1686322800@theargyle.org
SUMMARY:Book Club
DESCRIPTION:
URL:https://theargyle.org/event/book-club-14/
LOCATION:The Argyle\, 4115 W 38th Ave\, Denver\, CO\, 80212
END:VEVENT
END:VCALENDAR