BEGIN:VCALENDAR
VERSION:2.0
PRODID:-//The Argyle - ECPv6.15.20//NONSGML v1.0//EN
CALSCALE:GREGORIAN
METHOD:PUBLISH
X-ORIGINAL-URL:https://theargyle.org
X-WR-CALDESC:Events for The Argyle
REFRESH-INTERVAL;VALUE=DURATION:PT1H
X-Robots-Tag:noindex
X-PUBLISHED-TTL:PT1H
BEGIN:VTIMEZONE
TZID:UTC
BEGIN:STANDARD
TZOFFSETFROM:+0000
TZOFFSETTO:+0000
TZNAME:UTC
DTSTART:20220101T000000
END:STANDARD
END:VTIMEZONE
BEGIN:VEVENT
DTSTART;TZID=UTC:20230610T093000
DTEND;TZID=UTC:20230610T093000
DTSTAMP:20260422T185812
CREATED:20230607T230137Z
LAST-MODIFIED:20230607T230137Z
UID:2296-1686389400-1686389400@theargyle.org
SUMMARY:Coffee Social
DESCRIPTION:
URL:https://theargyle.org/event/coffee-social-10/
LOCATION:The Argyle\, 4115 W 38th Ave\, Denver\, CO\, 80212
END:VEVENT
BEGIN:VEVENT
DTSTART;TZID=UTC:20230610T103000
DTEND;TZID=UTC:20230610T103000
DTSTAMP:20260422T185812
CREATED:20230607T230234Z
LAST-MODIFIED:20230607T230240Z
UID:2298-1686393000-1686393000@theargyle.org
SUMMARY:Snack and Bingo
DESCRIPTION:
URL:https://theargyle.org/event/snack-and-bingo-3/
LOCATION:The Argyle\, 4115 W 38th Ave\, Denver\, CO\, 80212
END:VEVENT
BEGIN:VEVENT
DTSTART;TZID=UTC:20230610T133000
DTEND;TZID=UTC:20230610T133000
DTSTAMP:20260422T185812
CREATED:20230607T230306Z
LAST-MODIFIED:20230607T230306Z
UID:2300-1686403800-1686403800@theargyle.org
SUMMARY:Happy Hour - Rockies Tailgate
DESCRIPTION:
URL:https://theargyle.org/event/happy-hour-rockies-tailgate/
LOCATION:The Argyle\, 4115 W 38th Ave\, Denver\, CO\, 80212
END:VEVENT
BEGIN:VEVENT
DTSTART;TZID=UTC:20230610T150000
DTEND;TZID=UTC:20230610T150000
DTSTAMP:20260422T185812
CREATED:20230607T230337Z
LAST-MODIFIED:20230607T230337Z
UID:2302-1686409200-1686409200@theargyle.org
SUMMARY:Group Exercise
DESCRIPTION:
URL:https://theargyle.org/event/group-exercise-3/
LOCATION:The Argyle\, 4115 W 38th Ave\, Denver\, CO\, 80212
END:VEVENT
END:VCALENDAR