BEGIN:VCALENDAR
VERSION:2.0
PRODID:-//The Argyle - ECPv6.15.20//NONSGML v1.0//EN
CALSCALE:GREGORIAN
METHOD:PUBLISH
X-WR-CALNAME:The Argyle
X-ORIGINAL-URL:https://theargyle.org
X-WR-CALDESC:Events for The Argyle
REFRESH-INTERVAL;VALUE=DURATION:PT1H
X-Robots-Tag:noindex
X-PUBLISHED-TTL:PT1H
BEGIN:VTIMEZONE
TZID:UTC
BEGIN:STANDARD
TZOFFSETFROM:+0000
TZOFFSETTO:+0000
TZNAME:UTC
DTSTART:20220101T000000
END:STANDARD
END:VTIMEZONE
BEGIN:VEVENT
DTSTART;TZID=UTC:20230612T093000
DTEND;TZID=UTC:20230612T093000
DTSTAMP:20260422T173120
CREATED:20230607T230604Z
LAST-MODIFIED:20230607T230604Z
UID:2310-1686562200-1686562200@theargyle.org
SUMMARY:Snack and Bingo
DESCRIPTION:
URL:https://theargyle.org/event/snack-and-bingo-4/
END:VEVENT
BEGIN:VEVENT
DTSTART;TZID=UTC:20230612T133000
DTEND;TZID=UTC:20230612T133000
DTSTAMP:20260422T173120
CREATED:20230607T230628Z
LAST-MODIFIED:20230607T230628Z
UID:2312-1686576600-1686576600@theargyle.org
SUMMARY:Gardening - Butterfly Garden Installation
DESCRIPTION:
URL:https://theargyle.org/event/gardening-butterfly-garden-installation/
END:VEVENT
BEGIN:VEVENT
DTSTART;TZID=UTC:20230612T150000
DTEND;TZID=UTC:20230612T150000
DTSTAMP:20260422T173120
CREATED:20230607T230652Z
LAST-MODIFIED:20230607T230652Z
UID:2314-1686582000-1686582000@theargyle.org
SUMMARY:Arts/Crafts
DESCRIPTION:
URL:https://theargyle.org/event/arts-crafts-16/
END:VEVENT
END:VCALENDAR