BEGIN:VCALENDAR
VERSION:2.0
PRODID:-//The Argyle - ECPv6.15.20//NONSGML v1.0//EN
CALSCALE:GREGORIAN
METHOD:PUBLISH
X-WR-CALNAME:The Argyle
X-ORIGINAL-URL:https://theargyle.org
X-WR-CALDESC:Events for The Argyle
REFRESH-INTERVAL;VALUE=DURATION:PT1H
X-Robots-Tag:noindex
X-PUBLISHED-TTL:PT1H
BEGIN:VTIMEZONE
TZID:UTC
BEGIN:STANDARD
TZOFFSETFROM:+0000
TZOFFSETTO:+0000
TZNAME:UTC
DTSTART:20220101T000000
END:STANDARD
END:VTIMEZONE
BEGIN:VEVENT
DTSTART;TZID=UTC:20230614T090000
DTEND;TZID=UTC:20230614T090000
DTSTAMP:20260422T141146
CREATED:20230607T230839Z
LAST-MODIFIED:20230607T230839Z
UID:2322-1686733200-1686733200@theargyle.org
SUMMARY:Interactive Tour
DESCRIPTION:
URL:https://theargyle.org/event/interactive-tour-3/
END:VEVENT
BEGIN:VEVENT
DTSTART;TZID=UTC:20230614T100000
DTEND;TZID=UTC:20230614T100000
DTSTAMP:20260422T141146
CREATED:20230607T230857Z
LAST-MODIFIED:20230607T230857Z
UID:2324-1686736800-1686736800@theargyle.org
SUMMARY:Holy Family
DESCRIPTION:
URL:https://theargyle.org/event/holy-family-9/
END:VEVENT
BEGIN:VEVENT
DTSTART;TZID=UTC:20230614T140000
DTEND;TZID=UTC:20230614T140000
DTSTAMP:20260422T141146
CREATED:20230607T230918Z
LAST-MODIFIED:20230607T230918Z
UID:2326-1686751200-1686751200@theargyle.org
SUMMARY:Pastor Jerry
DESCRIPTION:
URL:https://theargyle.org/event/pastor-jerry-8/
END:VEVENT
BEGIN:VEVENT
DTSTART;TZID=UTC:20230614T150000
DTEND;TZID=UTC:20230614T150000
DTSTAMP:20260422T141146
CREATED:20230607T230938Z
LAST-MODIFIED:20230607T230938Z
UID:2328-1686754800-1686754800@theargyle.org
SUMMARY:Chess Club
DESCRIPTION:
URL:https://theargyle.org/event/chess-club/
END:VEVENT
END:VCALENDAR