BEGIN:VCALENDAR
VERSION:2.0
PRODID:-//The Argyle - ECPv6.15.20//NONSGML v1.0//EN
CALSCALE:GREGORIAN
METHOD:PUBLISH
X-ORIGINAL-URL:https://theargyle.org
X-WR-CALDESC:Events for The Argyle
REFRESH-INTERVAL;VALUE=DURATION:PT1H
X-Robots-Tag:noindex
X-PUBLISHED-TTL:PT1H
BEGIN:VTIMEZONE
TZID:UTC
BEGIN:STANDARD
TZOFFSETFROM:+0000
TZOFFSETTO:+0000
TZNAME:UTC
DTSTART:20220101T000000
END:STANDARD
END:VTIMEZONE
BEGIN:VEVENT
DTSTART;TZID=UTC:20230615T093000
DTEND;TZID=UTC:20230615T093000
DTSTAMP:20260422T185843
CREATED:20230607T231014Z
LAST-MODIFIED:20230607T231014Z
UID:2330-1686821400-1686821400@theargyle.org
SUMMARY:Outing
DESCRIPTION:
URL:https://theargyle.org/event/outing-20/
END:VEVENT
BEGIN:VEVENT
DTSTART;TZID=UTC:20230615T133000
DTEND;TZID=UTC:20230615T133000
DTSTAMP:20260422T185843
CREATED:20230607T231256Z
LAST-MODIFIED:20230607T231256Z
UID:2333-1686835800-1686835800@theargyle.org
SUMMARY:Happy Hour - Live Entertainment
DESCRIPTION:
URL:https://theargyle.org/event/happy-hour-live-entertainment/
END:VEVENT
BEGIN:VEVENT
DTSTART;TZID=UTC:20230615T150000
DTEND;TZID=UTC:20230615T150000
DTSTAMP:20260422T185843
CREATED:20230607T231321Z
LAST-MODIFIED:20230607T231321Z
UID:2335-1686841200-1686841200@theargyle.org
SUMMARY:Arts/Crafts
DESCRIPTION:
URL:https://theargyle.org/event/arts-crafts-17/
END:VEVENT
END:VCALENDAR