BEGIN:VCALENDAR
VERSION:2.0
PRODID:-//The Argyle - ECPv6.15.20//NONSGML v1.0//EN
CALSCALE:GREGORIAN
METHOD:PUBLISH
X-WR-CALNAME:The Argyle
X-ORIGINAL-URL:https://theargyle.org
X-WR-CALDESC:Events for The Argyle
REFRESH-INTERVAL;VALUE=DURATION:PT1H
X-Robots-Tag:noindex
X-PUBLISHED-TTL:PT1H
BEGIN:VTIMEZONE
TZID:UTC
BEGIN:STANDARD
TZOFFSETFROM:+0000
TZOFFSETTO:+0000
TZNAME:UTC
DTSTART:20220101T000000
END:STANDARD
END:VTIMEZONE
BEGIN:VEVENT
DTSTART;TZID=UTC:20230619T093000
DTEND;TZID=UTC:20230619T093000
DTSTAMP:20260422T173039
CREATED:20230607T231746Z
LAST-MODIFIED:20230607T231746Z
UID:2357-1687167000-1687167000@theargyle.org
SUMMARY:Snack and Bingo
DESCRIPTION:
URL:https://theargyle.org/event/snack-and-bingo-6/
END:VEVENT
BEGIN:VEVENT
DTSTART;TZID=UTC:20230619T133000
DTEND;TZID=UTC:20230619T133000
DTSTAMP:20260422T173039
CREATED:20230607T231808Z
LAST-MODIFIED:20230607T231808Z
UID:2359-1687181400-1687181400@theargyle.org
SUMMARY:Documentary - Juneteenth
DESCRIPTION:
URL:https://theargyle.org/event/documentary-juneteenth/
END:VEVENT
BEGIN:VEVENT
DTSTART;TZID=UTC:20230619T150000
DTEND;TZID=UTC:20230619T150000
DTSTAMP:20260422T173039
CREATED:20230607T231828Z
LAST-MODIFIED:20230607T231828Z
UID:2361-1687186800-1687186800@theargyle.org
SUMMARY:Woodworking w/ Dale
DESCRIPTION:
URL:https://theargyle.org/event/woodworking-w-dale/
END:VEVENT
END:VCALENDAR