BEGIN:VCALENDAR
VERSION:2.0
PRODID:-//The Argyle - ECPv6.15.20//NONSGML v1.0//EN
CALSCALE:GREGORIAN
METHOD:PUBLISH
X-WR-CALNAME:The Argyle
X-ORIGINAL-URL:https://theargyle.org
X-WR-CALDESC:Events for The Argyle
REFRESH-INTERVAL;VALUE=DURATION:PT1H
X-Robots-Tag:noindex
X-PUBLISHED-TTL:PT1H
BEGIN:VTIMEZONE
TZID:UTC
BEGIN:STANDARD
TZOFFSETFROM:+0000
TZOFFSETTO:+0000
TZNAME:UTC
DTSTART:20220101T000000
END:STANDARD
END:VTIMEZONE
BEGIN:VEVENT
DTSTART;TZID=UTC:20230620T093000
DTEND;TZID=UTC:20230620T093000
DTSTAMP:20260422T173008
CREATED:20230607T231857Z
LAST-MODIFIED:20230607T231857Z
UID:2363-1687253400-1687253400@theargyle.org
SUMMARY:Outing
DESCRIPTION:
URL:https://theargyle.org/event/outing-22/
END:VEVENT
BEGIN:VEVENT
DTSTART;TZID=UTC:20230620T133000
DTEND;TZID=UTC:20230620T133000
DTSTAMP:20260422T173008
CREATED:20230607T231915Z
LAST-MODIFIED:20230607T231915Z
UID:2365-1687267800-1687267800@theargyle.org
SUMMARY:Arts/Crafts
DESCRIPTION:
URL:https://theargyle.org/event/arts-crafts-18/
END:VEVENT
BEGIN:VEVENT
DTSTART;TZID=UTC:20230620T150000
DTEND;TZID=UTC:20230620T150000
DTSTAMP:20260422T173008
CREATED:20230607T231934Z
LAST-MODIFIED:20230607T231934Z
UID:2367-1687273200-1687273200@theargyle.org
SUMMARY:Chair Tap Class
DESCRIPTION:
URL:https://theargyle.org/event/chair-tap-class/
END:VEVENT
END:VCALENDAR