BEGIN:VCALENDAR
VERSION:2.0
PRODID:-//The Argyle - ECPv6.15.20//NONSGML v1.0//EN
CALSCALE:GREGORIAN
METHOD:PUBLISH
X-ORIGINAL-URL:https://theargyle.org
X-WR-CALDESC:Events for The Argyle
REFRESH-INTERVAL;VALUE=DURATION:PT1H
X-Robots-Tag:noindex
X-PUBLISHED-TTL:PT1H
BEGIN:VTIMEZONE
TZID:UTC
BEGIN:STANDARD
TZOFFSETFROM:+0000
TZOFFSETTO:+0000
TZNAME:UTC
DTSTART:20220101T000000
END:STANDARD
END:VTIMEZONE
BEGIN:VEVENT
DTSTART;TZID=UTC:20230622T093000
DTEND;TZID=UTC:20230622T093000
DTSTAMP:20260422T171515
CREATED:20230607T232131Z
LAST-MODIFIED:20230607T232131Z
UID:2377-1687426200-1687426200@theargyle.org
SUMMARY:Outing
DESCRIPTION:
URL:https://theargyle.org/event/outing-23/
END:VEVENT
BEGIN:VEVENT
DTSTART;TZID=UTC:20230622T133000
DTEND;TZID=UTC:20230622T133000
DTSTAMP:20260422T171515
CREATED:20230607T232200Z
LAST-MODIFIED:20230607T232217Z
UID:2379-1687440600-1687440600@theargyle.org
SUMMARY:Happy Hour - June Birthday Celebration
DESCRIPTION:
URL:https://theargyle.org/event/happy-hour-june-birthday-celebration/
END:VEVENT
BEGIN:VEVENT
DTSTART;TZID=UTC:20230622T150000
DTEND;TZID=UTC:20230622T150000
DTSTAMP:20260422T171515
CREATED:20230607T232238Z
LAST-MODIFIED:20230607T232238Z
UID:2381-1687446000-1687446000@theargyle.org
SUMMARY:Arts/Crafts
DESCRIPTION:
URL:https://theargyle.org/event/arts-crafts-19/
END:VEVENT
END:VCALENDAR